BEGIN:VCALENDAR
VERSION:2.0
PRODID:-//ExhibitionMatches.com//NONSGML v1.0//EN
BEGIN:VEVENT
UID=4E240639-AB3C-469C-485DCE4B8C4BA047
DTSTAMP=20260423T104428Z
DTSTART;VALUE=DATE:20260502
DTEND;VALUE=DATE:20260503
SUMMARY:AZ-USAW &quot;Greco-Roman State&quot;
LOCATION:Chandler High School, 350 N Arizona Ave, Chandler, AZ, 85225
DESCRIPTION:View full event details: https://wrestlingtournaments.org/view.cfm?ID=107173
Contact: Jadon Johnson gator052811@gmail.com
URL;VALUE=URI:https://wrestlingtournaments.org/view.cfm?ID=107173
END:VEVENT
END:VCALENDAR