BEGIN:VCALENDAR
VERSION:2.0
PRODID:-//ExhibitionMatches.com//NONSGML v1.0//EN
BEGIN:VEVENT
UID=4E60BFB4-C015-65F9-6A4C2FA3D9BA680F
DTSTAMP=20260423T105106Z
DTSTART;VALUE=DATE:20260822
DTEND;VALUE=DATE:20260823
SUMMARY:2026 MWP GRAND CANYON
LOCATION:Phoenix Convention Center, 100 North 3rd Street, Phoenix, AZ, 85004
DESCRIPTION:View full event details: https://wrestlingtournaments.org/view.cfm?ID=106973

URL;VALUE=URI:https://wrestlingtournaments.org/view.cfm?ID=106973
END:VEVENT
END:VCALENDAR