BEGIN:VCALENDAR
VERSION:2.0
PRODID:-//ExhibitionMatches.com//NONSGML v1.0//EN
BEGIN:VEVENT
UID=4E0B2C43-C358-4B09-A24C806AAD79E3ED
DTSTAMP=20260423T104145Z
DTSTART;VALUE=DATE:20260515
DTEND;VALUE=DATE:20260517
SUMMARY:AZ-USAW &quot; State Freestyle&quot;
LOCATION:Desert Vista HS, 16440 S. 32nd St, Phoenix, AZ, 85048
DESCRIPTION:View full event details: https://wrestlingtournaments.org/view.cfm?ID=106939
Contact: David Gonzalez dgonzalez@tuhsd.k12.az.us
URL;VALUE=URI:https://wrestlingtournaments.org/view.cfm?ID=106939
END:VEVENT
END:VCALENDAR